View In:
ArcGIS JavaScript
ArcGIS Online map viewer
Google Earth
ArcMap
ArcGIS Explorer
View Footprint In:
ArcGIS Online map viewer
Service Description:
Map Name: 图层
Legend
All Layers and Tables
Layers:
Description:
Copyright Text:
Spatial Reference:
4326
(4326)
Single Fused Map Cache: true
Tile Info:
- Height: 256
- Width: 256
- DPI: 96
-
Levels of Detail: 20
-
Level ID: 7
[ Start Tile, End Tile ]
- Resolution: 0.0054931640625
- Scale: 2308574.9457714846
-
Level ID: 8
[ Start Tile, End Tile ]
- Resolution: 0.00274658203125
- Scale: 1154287.4728857423
-
Level ID: 9
[ Start Tile, End Tile ]
- Resolution: 0.001373291015625
- Scale: 577143.7364428712
-
Level ID: 10
[ Start Tile, End Tile ]
- Resolution: 6.866455078125E-4
- Scale: 288571.8682214356
-
Level ID: 11
[ Start Tile, End Tile ]
- Resolution: 3.4332275390625E-4
- Scale: 144285.9341107178
-
Level ID: 12
[ Start Tile, End Tile ]
- Resolution: 1.71661376953125E-4
- Scale: 72142.9670553589
-
Level ID: 13
[ Start Tile, End Tile ]
- Resolution: 8.58306884765625E-5
- Scale: 36071.48352767945
-
Level ID: 14
[ Start Tile, End Tile ]
- Resolution: 4.291534423828125E-5
- Scale: 18035.741763839724
-
Level ID: 15
[ Start Tile, End Tile ]
- Resolution: 2.1457672119140625E-5
- Scale: 9017.870881919862
-
Level ID: 16
[ Start Tile, End Tile ]
- Resolution: 1.0728836059570312E-5
- Scale: 4508.935440959931
-
Level ID: 17
[ Start Tile, End Tile ]
- Resolution: 5.364418029785156E-6
- Scale: 2254.4677204799655
-
Level ID: 18
[ Start Tile, End Tile ]
- Resolution: 2.682209014892578E-6
- Scale: 1127.2338602399827
-
Level ID: 19
[ Start Tile, End Tile ]
- Resolution: 1.341104507446289E-6
- Scale: 563.6169301199914
- Format: Mixed
- Compression Quality: 75.0
- Origin: X: -180.0
Y: 90.0
- Spatial Reference: 4326
(4326)
Initial Extent:
XMin: 114.87905140072253
YMin: 24.597475481862883
XMax: 118.80198675968954
YMax: 26.427152542371775
Spatial Reference: 4326
Full Extent:
XMin: 115.54371283202852
YMin: 24.12234712559939
XMax: 118.13732532838355
YMax: 26.31739990347785
Spatial Reference: 4326
Units: esriDecimalDegrees
Supported Image Format Types: PNG32,PNG24,PNG,JPG,DIB,TIFF,EMF,PS,PDF,GIF,SVG,SVGZ,BMP
Document Info:
Title:
Author:
Comments:
Subject:
Category:
Keywords:
AntialiasingMode: None
TextAntialiasingMode: Force
Supports Dynamic Layers: false
MaxRecordCount: 1000
MaxImageHeight: 4096
MaxImageWidth: 4096
Supported Query Formats: JSON, AMF, geoJSON
Min Scale: 2254.4677204799655
Max Scale: 563.6169301199914
Child Resources:
Info
Supported Operations:
Export Map
Identify
Find
Return Updates
Generate KML