View In:
ArcGIS JavaScript
ArcGIS Online map viewer
Google Earth
ArcMap
ArcGIS Explorer
View Footprint In:
ArcGIS Online map viewer
Service Description:
Map Name: 图层
Legend
All Layers and Tables
Layers:
Description:
Copyright Text:
Spatial Reference:
4490
(4490)
Single Fused Map Cache: true
Tile Info:
- Height: 256
- Width: 256
- DPI: 96
-
Levels of Detail: 20
-
Level ID: 0
[ Start Tile, End Tile ]
- Resolution: 0.7031250000000002
- Scale: 2.9549759305875003E8
-
Level ID: 1
[ Start Tile, End Tile ]
- Resolution: 0.3515625000000001
- Scale: 1.4774879652937502E8
-
Level ID: 2
[ Start Tile, End Tile ]
- Resolution: 0.17578125000000006
- Scale: 7.387439826468751E7
-
Level ID: 3
[ Start Tile, End Tile ]
- Resolution: 0.08789062500000003
- Scale: 3.6937199132343754E7
-
Level ID: 4
[ Start Tile, End Tile ]
- Resolution: 0.043945312500000014
- Scale: 1.8468599566171877E7
-
Level ID: 5
[ Start Tile, End Tile ]
- Resolution: 0.021972656250000007
- Scale: 9234299.783085939
-
Level ID: 6
[ Start Tile, End Tile ]
- Resolution: 0.010986328125000003
- Scale: 4617149.891542969
-
Level ID: 7
[ Start Tile, End Tile ]
- Resolution: 0.005493164062500002
- Scale: 2308574.9457714846
-
Level ID: 8
[ Start Tile, End Tile ]
- Resolution: 0.002746582031250001
- Scale: 1154287.4728857423
-
Level ID: 9
[ Start Tile, End Tile ]
- Resolution: 0.0013732910156250004
- Scale: 577143.7364428712
-
Level ID: 10
[ Start Tile, End Tile ]
- Resolution: 6.866455078125002E-4
- Scale: 288571.8682214356
-
Level ID: 11
[ Start Tile, End Tile ]
- Resolution: 3.433227539062501E-4
- Scale: 144285.9341107178
-
Level ID: 12
[ Start Tile, End Tile ]
- Resolution: 1.7166137695312505E-4
- Scale: 72142.9670553589
-
Level ID: 13
[ Start Tile, End Tile ]
- Resolution: 8.583068847656253E-5
- Scale: 36071.48352767945
-
Level ID: 14
[ Start Tile, End Tile ]
- Resolution: 4.2915344238281264E-5
- Scale: 18035.741763839724
-
Level ID: 15
[ Start Tile, End Tile ]
- Resolution: 2.1457672119140632E-5
- Scale: 9017.870881919862
-
Level ID: 16
[ Start Tile, End Tile ]
- Resolution: 1.0728836059570316E-5
- Scale: 4508.935440959931
-
Level ID: 17
[ Start Tile, End Tile ]
- Resolution: 5.364418029785158E-6
- Scale: 2254.4677204799655
-
Level ID: 18
[ Start Tile, End Tile ]
- Resolution: 2.682209014892579E-6
- Scale: 1127.2338602399827
-
Level ID: 19
[ Start Tile, End Tile ]
- Resolution: 1.3411045074462895E-6
- Scale: 563.6169301199914
- Format: PNG32
- Compression Quality: 0.0
- Origin: X: -180.0
Y: 90.0
- Spatial Reference: 4490
(4490)
Initial Extent:
XMin: 116.7893094902295
YMin: 25.05332010618266
XMax: 117.20662653969427
YMax: 25.22961344158915
Spatial Reference: 4490
Full Extent:
XMin: 116.88042264127387
YMin: 24.974773167864726
XMax: 117.1155133886499
YMax: 25.217478190459417
Spatial Reference: 4490
Units: esriDecimalDegrees
Supported Image Format Types: PNG32,PNG24,PNG,JPG,DIB,TIFF,EMF,PS,PDF,GIF,SVG,SVGZ,BMP
Document Info:
Title:
Author:
Comments:
Subject:
Category:
Keywords:
AntialiasingMode: None
TextAntialiasingMode: Force
Supports Dynamic Layers: false
MaxRecordCount: 1000
MaxImageHeight: 4096
MaxImageWidth: 4096
Supported Query Formats: JSON, AMF, geoJSON
Min Scale: 2254.4677204799655
Max Scale: 563.6169301199914
Child Resources:
Info
Supported Operations:
Export Map
Identify
Find
Return Updates
Generate KML