View In:
ArcGIS JavaScript
ArcGIS Online map viewer
Google Earth
ArcMap
ArcGIS Explorer
View Footprint In:
ArcGIS Online map viewer
Service Description:
Map Name: 图层
Legend
All Layers and Tables
Layers:
Description:
Copyright Text:
Spatial Reference:
4490
(4490)
Single Fused Map Cache: true
Tile Info:
- Height: 256
- Width: 256
- DPI: 96
-
Levels of Detail: 3
-
Level ID: 0
[ Start Tile, End Tile ]
- Resolution: 5.364418029785158E-6
- Scale: 2254.4677204799655
-
Level ID: 1
[ Start Tile, End Tile ]
- Resolution: 2.682209014892579E-6
- Scale: 1127.2338602399827
-
Level ID: 2
[ Start Tile, End Tile ]
- Resolution: 1.3411045074462895E-6
- Scale: 563.6169301199914
- Format: MIXED
- Compression Quality: 75.0
- Origin: X: -180.0
Y: 90.0
- Spatial Reference: 4490
(4490)
Initial Extent:
XMin: 116.81201026599484
YMin: 25.058305820717322
XMax: 117.19404353138958
YMax: 25.21969371195984
Spatial Reference: 4490
Full Extent:
XMin: 116.90058702585031
YMin: 24.986399955929755
XMax: 117.10546677153411
YMax: 25.20858448548222
Spatial Reference: 4490
Units: esriDecimalDegrees
Supported Image Format Types: PNG32,PNG24,PNG,JPG,DIB,TIFF,EMF,PS,PDF,GIF,SVG,SVGZ,BMP
Document Info:
Title:
Author:
Comments:
Subject:
Category:
Keywords:
AntialiasingMode: None
TextAntialiasingMode: Force
Supports Dynamic Layers: false
MaxRecordCount: 1000
MaxImageHeight: 4096
MaxImageWidth: 4096
Supported Query Formats: JSON, AMF, geoJSON
Min Scale: 2254.4677204799655
Max Scale: 563.6169301199914
Child Resources:
Info
Supported Operations:
Export Map
Identify
Find
Return Updates
Generate KML