{
 "currentVersion": 10.41,
 "serviceDescription": "",
 "mapName": "图层",
 "description": "",
 "copyrightText": "",
 "supportsDynamicLayers": false,
 "layers": [
  {
   "id": 0,
   "name": "wp",
   "parentLayerId": -1,
   "defaultVisibility": true,
   "subLayerIds": null,
   "minScale": 0,
   "maxScale": 0
  }
 ],
 "tables": [],
 "spatialReference": {
  "wkid": 4490,
  "latestWkid": 4490
 },
 "singleFusedMapCache": true,
 "tileInfo": {
  "rows": 256,
  "cols": 256,
  "dpi": 96,
  "format": "PNG32",
  "compressionQuality": 0,
  "origin": {
   "x": -180,
   "y": 90
  },
  "spatialReference": {
   "wkid": 4490,
   "latestWkid": 4490
  },
  "lods": [
   {
    "level": 0,
    "resolution": 5.364418029785158E-6,
    "scale": 2254.4677204799655
   },
   {
    "level": 1,
    "resolution": 2.682209014892579E-6,
    "scale": 1127.2338602399827
   },
   {
    "level": 2,
    "resolution": 1.3411045074462895E-6,
    "scale": 563.6169301199914
   }
  ]
 },
 "initialExtent": {
  "xmin": 114.80952219087571,
  "ymin": 25.575389541825587,
  "xmax": 116.52616984132352,
  "ymax": 26.182834496437124,
  "spatialReference": {
   "cs": "gcs",
   "wkid": 4490
  }
 },
 "fullExtent": {
  "xmin": 115.81176458342952,
  "ymin": 24.72242936600128,
  "xmax": 116.44946013299204,
  "ymax": 25.558225863746884,
  "spatialReference": {
   "cs": "gcs",
   "wkid": 4490
  }
 },
 "minScale": 2254.4677204799655,
 "maxScale": 563.6169301199914,
 "units": "esriDecimalDegrees",
 "supportedImageFormatTypes": "PNG32,PNG24,PNG,JPG,DIB,TIFF,EMF,PS,PDF,GIF,SVG,SVGZ,BMP",
 "documentInfo": {
  "Title": "",
  "Author": "",
  "Comments": "",
  "Subject": "",
  "Category": "",
  "AntialiasingMode": "None",
  "TextAntialiasingMode": "Force",
  "Keywords": ""
 },
 "capabilities": "Map,Query,Data",
 "supportedQueryFormats": "JSON, AMF, geoJSON",
 "exportTilesAllowed": false,
 "maxRecordCount": 1000,
 "maxImageHeight": 4096,
 "maxImageWidth": 4096,
 "supportedExtensions": "KmlServer, WMSServer"
}
