{
 "currentVersion": 10.41,
 "serviceDescription": "",
 "mapName": "图层",
 "description": "",
 "copyrightText": "",
 "supportsDynamicLayers": false,
 "layers": [
  {
   "id": 0,
   "name": "WGS范围",
   "parentLayerId": -1,
   "defaultVisibility": true,
   "subLayerIds": null,
   "minScale": 0,
   "maxScale": 0
  }
 ],
 "tables": [],
 "spatialReference": {
  "wkid": 4326,
  "latestWkid": 4326
 },
 "singleFusedMapCache": true,
 "tileInfo": {
  "rows": 256,
  "cols": 256,
  "dpi": 96,
  "format": "PNG32",
  "compressionQuality": 0,
  "origin": {
   "x": -180,
   "y": 90
  },
  "spatialReference": {
   "wkid": 4326,
   "latestWkid": 4326
  },
  "lods": [
   {
    "level": 1,
    "resolution": 0.703125,
    "scale": 2.9549759305875003E8
   },
   {
    "level": 2,
    "resolution": 0.3515625,
    "scale": 1.4774879652937502E8
   },
   {
    "level": 3,
    "resolution": 0.17578125,
    "scale": 7.387439826468751E7
   },
   {
    "level": 4,
    "resolution": 0.087890625,
    "scale": 3.6937199132343754E7
   },
   {
    "level": 5,
    "resolution": 0.0439453125,
    "scale": 1.8468599566171877E7
   },
   {
    "level": 6,
    "resolution": 0.02197265625,
    "scale": 9234299.783085939
   },
   {
    "level": 7,
    "resolution": 0.010986328125,
    "scale": 4617149.891542969
   },
   {
    "level": 8,
    "resolution": 0.0054931640625,
    "scale": 2308574.9457714846
   },
   {
    "level": 9,
    "resolution": 0.00274658203125,
    "scale": 1154287.4728857423
   },
   {
    "level": 10,
    "resolution": 0.001373291015625,
    "scale": 577143.7364428712
   },
   {
    "level": 11,
    "resolution": 6.866455078125E-4,
    "scale": 288571.8682214356
   },
   {
    "level": 12,
    "resolution": 3.4332275390625E-4,
    "scale": 144285.9341107178
   },
   {
    "level": 13,
    "resolution": 1.71661376953125E-4,
    "scale": 72142.9670553589
   },
   {
    "level": 14,
    "resolution": 8.58306884765625E-5,
    "scale": 36071.48352767945
   },
   {
    "level": 15,
    "resolution": 4.291534423828125E-5,
    "scale": 18035.741763839724
   },
   {
    "level": 16,
    "resolution": 2.1457672119140625E-5,
    "scale": 9017.870881919862
   },
   {
    "level": 17,
    "resolution": 1.0728836059570312E-5,
    "scale": 4508.935440959931
   },
   {
    "level": 18,
    "resolution": 5.364418029785156E-6,
    "scale": 2254.4677204799655
   },
   {
    "level": 19,
    "resolution": 2.682209014892578E-6,
    "scale": 1127.2338602399827
   },
   {
    "level": 20,
    "resolution": 1.341104507446289E-6,
    "scale": 563.6169301199914
   }
  ]
 },
 "initialExtent": {
  "xmin": 114.87905140072253,
  "ymin": 24.597475481862883,
  "xmax": 118.80198675968954,
  "ymax": 26.427152542371775,
  "spatialReference": {
   "cs": "gcs",
   "wkid": 4326
  }
 },
 "fullExtent": {
  "xmin": 115.54371283202852,
  "ymin": 24.12234712559939,
  "xmax": 118.13732532838355,
  "ymax": 26.31739990347785,
  "spatialReference": {
   "cs": "gcs",
   "wkid": 4326
  }
 },
 "minScale": 2254.4677204799655,
 "maxScale": 563.6169301199914,
 "units": "esriDecimalDegrees",
 "supportedImageFormatTypes": "PNG32,PNG24,PNG,JPG,DIB,TIFF,EMF,PS,PDF,GIF,SVG,SVGZ,BMP",
 "documentInfo": {
  "Title": "",
  "Author": "",
  "Comments": "",
  "Subject": "",
  "Category": "",
  "AntialiasingMode": "None",
  "TextAntialiasingMode": "Force",
  "Keywords": ""
 },
 "capabilities": "Map,Query,Data",
 "supportedQueryFormats": "JSON, AMF, geoJSON",
 "exportTilesAllowed": false,
 "maxRecordCount": 1000,
 "maxImageHeight": 4096,
 "maxImageWidth": 4096,
 "supportedExtensions": "KmlServer"
}
